BEGIN:VCALENDAR
VERSION:2.0
PRODID:-//Wild Pickle - ECPv6.15.16//NONSGML v1.0//EN
CALSCALE:GREGORIAN
METHOD:PUBLISH
X-WR-CALNAME:Wild Pickle
X-ORIGINAL-URL:https://wildpickle.co.uk
X-WR-CALDESC:Events for Wild Pickle
REFRESH-INTERVAL;VALUE=DURATION:PT1H
X-Robots-Tag:noindex
X-PUBLISHED-TTL:PT1H
BEGIN:VTIMEZONE
TZID:UTC
BEGIN:STANDARD
TZOFFSETFROM:+0000
TZOFFSETTO:+0000
TZNAME:UTC
DTSTART:20240101T000000
END:STANDARD
END:VTIMEZONE
BEGIN:VEVENT
DTSTART;TZID=UTC:20251015T190000
DTEND;TZID=UTC:20251015T210000
DTSTAMP:20260424T144558
CREATED:20241106T161035Z
LAST-MODIFIED:20250915T085923Z
UID:1721-1760554800-1760562000@wildpickle.co.uk
SUMMARY:Winter Fire Cider Making Workshop at Bare Health
DESCRIPTION:Gather together a hands on session to create a fire cider vinegar\, this is a traditional tonic created with pungent herbs\, spices and apple cider vinegar believed to help boost our immune systems\, nourish us and offer other benefits during the winter months. \nBuy your ticket here. \nWe will explore and use a variety of ingredients harvested and foraged locally  to create your own version to take home with you to infuse for the winter months. We will look at other winter home remedies that we can create and use too. \nThis is a relaxed evening\, we will weave some folklore\, tradition and  share some time to create together. \nWe will have a light supper and light refreshments for the event. \n \n\n\n\nWed 15 Oct 2025 7:00 PM – 9:00 PM\nLocation\nBare Health\, 34\, High Street\, Congleton\, Cw12 1bd
URL:https://wildpickle.co.uk/event/winter-fire-cider-vinegar-evening/
LOCATION:Bare Health\, 34 High Street\, Congleton\, Cw12 1bd
CATEGORIES:Ferment,Festive,Forage
ATTACH;FMTTYPE=image/png:https://wildpickle.co.uk/wp-content/uploads/2023/09/Festive-Ferments-Workshop.png
END:VEVENT
END:VCALENDAR