BEGIN:VCALENDAR
VERSION:2.0
PRODID:-//Wild Pickle - ECPv6.15.16//NONSGML v1.0//EN
CALSCALE:GREGORIAN
METHOD:PUBLISH
X-ORIGINAL-URL:https://wildpickle.co.uk
X-WR-CALDESC:Events for Wild Pickle
REFRESH-INTERVAL;VALUE=DURATION:PT1H
X-Robots-Tag:noindex
X-PUBLISHED-TTL:PT1H
BEGIN:VTIMEZONE
TZID:UTC
BEGIN:STANDARD
TZOFFSETFROM:+0000
TZOFFSETTO:+0000
TZNAME:UTC
DTSTART:20250101T000000
END:STANDARD
END:VTIMEZONE
BEGIN:VEVENT
DTSTART;TZID=UTC:20260329T100000
DTEND;TZID=UTC:20260329T160000
DTSTAMP:20260421T230907
CREATED:20251018T180746Z
LAST-MODIFIED:20260127T210930Z
UID:2513-1774778400-1774800000@wildpickle.co.uk
SUMMARY:Spring Forage & Ferment Wild garlic festival all day\,Bare Health\,Congleton (Sold Out)
DESCRIPTION:Spring Forage & Ferment Wild Garlic Festival All Day\nBare  Health\, Congleton\nSunday March 29th 10am – 4pm\n\nWild Garlic is part of our wild history\, used as far back as the Stone Age. Quite often it is a sign of ancient woodlands\, and growing in special and magical spaces. Part of the reemergence from Winter into Spring means heading out to these lovely places to find carpets of green\, with a scent of garlic\, maybe dotted with white flowers in amongst the spread\, there we gather some Wild garlic and to take back to create some wonderful flavoursome foods. Over many years Emma has brought family and friends into the woods to gather these delicious leaves just like our ancestors did. \n \nJoin Emma and Mel at Bare health to celebrate and explore ways to savour and enjoy the Wild garlic season sustainably and safely. \nWe will head out for a local forage for wild garlic and other spring seasonal greens for 2 hours\, come back and enjoy a seasonal wild garlic and spring green lunch together show casing all that is possible and explore through a hands on workshop 2 ways to preserve our wild garlic harvest. One way being a lacto fermented wild garlic. We will look at other ways from making cultured butter\, salts\, pickles\, crackers\, miso\, pesto and how to enjoy the plant throughout the season! \n \n \nWe look forward to seeing you there! \n \n  \n 
URL:https://wildpickle.co.uk/event/spring-forage-ferment-wild-garlic-festival-all-daycongleton-29th-mar/
LOCATION:Bare Health\, 34 High Street\, Congleton\, Cw12 1bd
CATEGORIES:Ferment,Forage,kimchi,Spring,Wild Garlic
ATTACH;FMTTYPE=image/jpeg:https://wildpickle.co.uk/wp-content/uploads/2025/10/em-wg.jpg
END:VEVENT
END:VCALENDAR